BEGIN:VCALENDAR
VERSION:2.0
PRODID:-//wp-events-plugin.com//7.2.3.1//EN
BEGIN:VEVENT
UID:71@badsaarow-feelings.de
DTSTART:20241031T150000Z
DTEND:20241031T190000Z
DTSTAMP:20240604T093026Z
URL:https://badsaarow-feelings.de/events/kinder-gruselparty/
SUMMARY:Kinder-Gruselparty
DESCRIPTION:Die große Freilich-Kinder-Gruselparty mit Musik\, coolen Snack
 s und fantasievollen Getränken. Eltern sind selbstverständlich auch herz
 lich Willkommen!\n\nEin schöner Herbstnachmittag mit der ganzen Familie!
ATTACH;FMTTYPE=image/jpeg:https://badsaarow-feelings.de/wp-content/uploads
 /ff24-kinder-halloween-disco-01.jpg
CATEGORIES:Musik,Party
LOCATION:Freilich am See\, Karl-Marx-Damm 47a\, Bad Saarow\, Brandenburg\, 
 15526\, Deutschland
X-APPLE-STRUCTURED-LOCATION;VALUE=URI;X-ADDRESS=Karl-Marx-Damm 47a\, Bad Sa
 arow\, Brandenburg\, 15526\, Deutschland;X-APPLE-RADIUS=100;X-TITLE=Freili
 ch am See:geo:0,0
END:VEVENT
END:VCALENDAR