BEGIN:VCALENDAR
VERSION:2.0
PRODID:-//wp-events-plugin.com//7.2.3.1//EN
BEGIN:VEVENT
UID:73@badsaarow-feelings.de
DTSTART;VALUE=DATE:20241231
DTEND;VALUE=DATE:20250101
DTSTAMP:20240604T095443Z
URL:https://badsaarow-feelings.de/events/silvester-im-freilich/
SUMMARY:Silvesterparty
DESCRIPTION:Startet in das neue Jahr mit einem Bang und genießt einen Aben
 d voller kulinarischer Highlights mit einem außergewöhnlichen 5- Gang Me
 nü und anschließender ausgelassener Party im Festsaal. Um Mitternacht tr
 effen wir uns alle draußen und starten das Jahr mit einem Gläschen Champ
 agner!
ATTACH;FMTTYPE=image/jpeg:https://badsaarow-feelings.de/wp-content/uploads
 /ff24-silvester-01.jpg
CATEGORIES:Party
LOCATION:Freilich am See\, Karl-Marx-Damm 47a\, Bad Saarow\, Brandenburg\, 
 15526\, Deutschland
X-APPLE-STRUCTURED-LOCATION;VALUE=URI;X-ADDRESS=Karl-Marx-Damm 47a\, Bad Sa
 arow\, Brandenburg\, 15526\, Deutschland;X-APPLE-RADIUS=100;X-TITLE=Freili
 ch am See:geo:0,0
END:VEVENT
END:VCALENDAR